BEGIN:VCALENDAR
VERSION:2.0
PRODID:-//www.ardainc.org//NONSGML kigkonsult.se iCalcreator 2.30.10//
CALSCALE:GREGORIAN
METHOD:PUBLISH
UID:6ad183ce-8871-43b5-9c28-86c6dbc6e8d5
X-WR-CALDESC:Virginia - Every Sunday (except First Sunday) each month is te
 am training. Contact Training Director before coming out- open to the publ
 ic.
X-WR-RELCALID:dbcc3d6f25ecfea8b041959eeec13fb8
X-WR-TIMEZONE:America/Chicago
BEGIN:VTIMEZONE
TZID:America/Chicago
BEGIN:STANDARD
TZNAME:CST
DTSTART:20241103T020000
TZOFFSETFROM:-0500
TZOFFSETTO:-0600
RDATE:20251102T020000
RDATE:20261101T020000
END:STANDARD
BEGIN:DAYLIGHT
TZNAME:CDT
DTSTART:20250309T020000
TZOFFSETFROM:-0600
TZOFFSETTO:-0500
RDATE:20260308T020000
END:DAYLIGHT
END:VTIMEZONE
BEGIN:VEVENT
UID:a0aaeb9f-64ac-4359-96ee-0ee63e4ac3b2
DTSTAMP:20260421T083719Z
DESCRIPTION:Virginia - Every Sunday (except First Sunday) each month is tea
 m training. Contact Training Director before coming out- open to the publi
 c.
DTSTART;TZID=America/Chicago:20250615T000000
DTEND;TZID=America/Chicago:20250615T235900
LOCATION:
SUMMARY:Individual Unit Training
END:VEVENT
END:VCALENDAR
