BEGIN:VCALENDAR
VERSION:2.0
PRODID:-//www.ardainc.org//NONSGML kigkonsult.se iCalcreator 2.30.10//
CALSCALE:GREGORIAN
METHOD:PUBLISH
UID:92d5ec9c-3ae8-4aa3-bd07-c702af4b8ef9
X-WR-CALDESC:Virginia - Every Sunday (except First Sunday) each month is te
 am training. Contact Training Director before coming out- open to the publ
 ic.
X-WR-RELCALID:51f96b4aa29feb96f8614a51c8880b3a
X-WR-TIMEZONE:America/Chicago
BEGIN:VTIMEZONE
TZID:America/Chicago
BEGIN:STANDARD
TZNAME:CST
DTSTART:20251102T020000
TZOFFSETFROM:-0500
TZOFFSETTO:-0600
RDATE:20261101T020000
END:STANDARD
BEGIN:DAYLIGHT
TZNAME:CDT
DTSTART:20260308T020000
TZOFFSETFROM:-0600
TZOFFSETTO:-0500
RDATE:20270314T020000
END:DAYLIGHT
END:VTIMEZONE
BEGIN:VEVENT
UID:de897e92-a1f2-4364-a708-b773a046c1ba
DTSTAMP:20260421T083740Z
DESCRIPTION:Virginia - Every Sunday (except First Sunday) each month is tea
 m training. Contact Training Director before coming out- open to the publi
 c.
DTSTART;TZID=America/Chicago:20260315T000000
DTEND;TZID=America/Chicago:20260315T235900
LOCATION:
SUMMARY:Individual Unit Training
END:VEVENT
END:VCALENDAR
